    BEGIN:VCALENDAR
VERSION:2.0
PRODID:-//wp-events-plugin.com//7.2.3.1//EN
TZID:America/Chicago
X-WR-TIMEZONE:America/Chicago
BEGIN:VEVENT
UID:36@texaslandbrokers.org
DTSTART;TZID=America/Chicago:20250312T110000
DTEND;TZID=America/Chicago:20250312T130000
DTSTAMP:20250305T204839Z
URL:https://texaslandbrokers.org/events/talb-north-march-meeting-luncheon
SUMMARY:TALB-North March Meeting/Luncheon
DESCRIPTION:\n\nDATE:  March 12\, 2025\nTIME:  11:00 a.m. - 1:00 p.m.\n\n
 SPEAKERS &amp\; TOPIC: Dr. Lynn Krebs\, research economist w/TAMU RE Cente
 r - TX land markets and demographics\, macroeconomic conditions for the US
  and Texas as it relates to rural land markets.\n\nVENUE:  Willow Park Ev
 ent Center\, 500 Shops Blvd\, Willow Park\, TX  76087\n\nRSVP: $25 for lu
 nch - you can pay ahead of time at this link:\n\nhttps://www.zeffy.com/ti
 cketing/talb-north-meeting-march-12--2025\n\nor you can pay at the door\; 
 just let Jo know that you are attending by emailing Jo Henry at:\ntexasjo2
 010@gmail.com\n\n\n\n&nbsp\;\n\n&nbsp\;\n\n\n\nLynn joined the Texas Real 
 Estate Research Center staff in 2022 with an extensive background in comme
 rcial real estate and property tax consulting. He began his career at the 
 Center as a graduate assistant in 1992\, where he assisted Dr. Charles Gil
 liland in rural land markets and property tax research and reporting.\n\nH
 e earned his bachelor’s degree in agricultural economics and Master’s 
 in land economics and real estate\, both from Texas A&amp\;M University in
  College Station. Lynn also earned a Ph.D. from Georgia State University w
 hile working for the Institute of Professionals in Taxation in Atlanta fro
 m 1994 to 2003. From there\, Lynn returned to the great state of Texas to 
 join Collegiate Development as Senior Vice President in Dallas. Subsequent
 ly\, Lynn worked in property tax consulting from 2007 to 2022. He most rec
 ently served as CEO of Tax Advisors Group where he led the firm for eight 
 years through tremendous growth from its original founder through two roun
 ds of successful private equity investments.
LOCATION:Willow Park Event Center\, 500 Shops Blvd\, Willow Park\,  Texas\,
  76087\, United States
X-APPLE-STRUCTURED-LOCATION;VALUE=URI;X-ADDRESS=500 Shops Blvd\, Willow Par
 k\,  Texas\, 76087\, United States;X-APPLE-RADIUS=100;X-TITLE=Willow Park 
 Event Center:geo:0,0
END:VEVENT
BEGIN:VTIMEZONE
TZID:America/Chicago
X-LIC-LOCATION:America/Chicago
BEGIN:DAYLIGHT
DTSTART:20250309T030000
TZOFFSETFROM:-0600
TZOFFSETTO:-0500
TZNAME:CDT
END:DAYLIGHT
END:VTIMEZONE
END:VCALENDAR