    BEGIN:VCALENDAR
VERSION:2.0
PRODID:-//wp-events-plugin.com//7.2.3.1//EN
TZID:America/Chicago
X-WR-TIMEZONE:America/Chicago
BEGIN:VEVENT
UID:28@texaslandbrokers.org
DTSTART;TZID=America/Chicago:20250108T110000
DTEND;TZID=America/Chicago:20250108T130000
DTSTAMP:20250104T164907Z
URL:https://texaslandbrokers.org/events/talb-north-january-meeting-luncheo
 n
SUMMARY:TALB-North January Meeting/Luncheon
DESCRIPTION:\n\n\n\n\n\n\n\n\n\n\nHappy New Year All!!  Let's kick off the
  new year by gathering for a very informative meeting!  Invite your colle
 agues/friends who haven't yet joined TALB and meet us in Weatherford!\n\nD
 ATE:  January 8\, 2025\n\nTIME:  11:00 a.m. - 1:00 p.m.\n\nSPEAKERS &amp
 \; TOPIC:  We will have a panel made up of affiliate member lenders with 
 a Q&amp\;A session.  This will allow you to start the New Year off with t
 he most up to date information regarding the lending environment\, such as
  expectations for rates\, market trends\, and specific financing opportuni
 ties.\n\nVENUE:   The Vintage Car Museum\, 100 Fort Worth Hwy\, Weather
 ford\, TX\n\nRSVP:  by clicking this link:\nhttps://forms.gle/6A7gq7YSo
 ftQjHPu8\nor by emailing Jo Henry at:\ntexasjo2010@gmail.com\n\n\n\n\n\n\n
 \n\n\n\n\n&nbsp\;
LOCATION:The Vintage Car Museum\, 100 Fort Worth Hwy\, Weatherford\, TX\, 7
 6086\, United States
GEO:32.758648;-97.795799
X-APPLE-STRUCTURED-LOCATION;VALUE=URI;X-ADDRESS=100 Fort Worth Hwy\, Weathe
 rford\, TX\, 76086\, United States;X-APPLE-RADIUS=100;X-TITLE=The Vintage 
 Car Museum:geo:32.758648,-97.795799
END:VEVENT
BEGIN:VTIMEZONE
TZID:America/Chicago
X-LIC-LOCATION:America/Chicago
BEGIN:STANDARD
DTSTART:20241103T010000
TZOFFSETFROM:-0500
TZOFFSETTO:-0600
TZNAME:CST
END:STANDARD
END:VTIMEZONE
END:VCALENDAR